BEGIN:VCALENDAR
VERSION:2.0
PRODID:-//ASA Casa Central - ECPv6.15.17//NONSGML v1.0//EN
CALSCALE:GREGORIAN
METHOD:PUBLISH
X-WR-CALNAME:ASA Casa Central
X-ORIGINAL-URL:https://asaikido.com.ar
X-WR-CALDESC:Eventos para ASA Casa Central
REFRESH-INTERVAL;VALUE=DURATION:PT1H
X-Robots-Tag:noindex
X-PUBLISHED-TTL:PT1H
BEGIN:VTIMEZONE
TZID:America/Argentina/Buenos_Aires
BEGIN:STANDARD
TZOFFSETFROM:-0300
TZOFFSETTO:-0300
TZNAME:-03
DTSTART:20140101T000000
END:STANDARD
END:VTIMEZONE
BEGIN:VEVENT
DTSTART;VALUE=DATE:20151106
DTEND;VALUE=DATE:20151109
DTSTAMP:20260419T133247
CREATED:20150826T161813Z
LAST-MODIFIED:20150826T161813Z
UID:482-1446768000-1447027199@asaikido.com.ar
SUMMARY:Visita de Ricardo Corbal a San Luis
DESCRIPTION:El próximo 6\, 7 y 8 de noviembre\, Ricardo Corbal Sensei visitará la provincia de San Luis para brindar una serie de clases en Aikikai Dojo San Luis\, ubicado en Presidente Perón 402\, San Luis. ¡Los esperamos!
URL:https://asaikido.com.ar/evento/visita-de-ricardo-corbal-a-san-luis/
LOCATION:Aikikai Dojo San luis\, Perón 402\, San Luis\, San Luis\, D5700CLA\, Argentina
END:VEVENT
BEGIN:VEVENT
DTSTART;VALUE=DATE:20151009
DTEND;VALUE=DATE:20151012
DTSTAMP:20260419T133247
CREATED:20150122T195636Z
LAST-MODIFIED:20150122T195636Z
UID:264-1444348800-1444607999@asaikido.com.ar
SUMMARY:Visita a Cipolletti
DESCRIPTION:Octubre 9\, 10 y 11 Ricardo Corbal Sensei visitará Cipolletti.
URL:https://asaikido.com.ar/evento/visita-a-cipolletti/
LOCATION:Cipolletti\, Cipolletti Río Negro\, Argentina
END:VEVENT
BEGIN:VEVENT
DTSTART;VALUE=DATE:20150921
DTEND;VALUE=DATE:20150922
DTSTAMP:20260419T133247
CREATED:20150401T233009Z
LAST-MODIFIED:20150401T234105Z
UID:338-1442793600-1442879999@asaikido.com.ar
SUMMARY:Visita a Ramos Mejía
DESCRIPTION:El día 21 de septiembre\, Sensei Ricardo Corbal visitará Kaizen Dojo II a las 19Hs.\, Brandsen 1450\, Ramos Mejía. Instructor: Juan José Rodriguez (3° Dan). Tel: 15-3559-3535.
URL:https://asaikido.com.ar/evento/visita-a-ramos-mejia-2/
LOCATION:Kaizen Dojo II – Ramos\, Coronel Brandsen 1450\, Ramos Mejía \, Buenos Aires\, Argentina
END:VEVENT
BEGIN:VEVENT
DTSTART;VALUE=DATE:20150918
DTEND;VALUE=DATE:20150921
DTSTAMP:20260419T133247
CREATED:20150320T213450Z
LAST-MODIFIED:20150901T154025Z
UID:322-1442534400-1442793599@asaikido.com.ar
SUMMARY:Visita a Bariloche
DESCRIPTION:Sensei Ricardo Corbal dictará una serie de clases especiales los días 18\, 19 y 20 se Septiembre en Bariloche. La cita será en Gimnasio del Prado\, Otto Meilin y Catedral\, km 4\,7 de Bustillo. Instructor: Claudio Bio (3ºDan). \nTel.: 0294-42-164 ó 0294-41-163\nCel.: 0294-43-64099
URL:https://asaikido.com.ar/evento/visita-a-bariloche/
LOCATION:Shizen Dojo – Bariloche\, Elflein 1233\, Río Negro Bariloche\, Río Negro\, Argentina
END:VEVENT
BEGIN:VEVENT
DTSTART;VALUE=DATE:20150912
DTEND;VALUE=DATE:20150913
DTSTAMP:20260419T133247
CREATED:20150604T025958Z
LAST-MODIFIED:20150604T025958Z
UID:439-1442016000-1442102399@asaikido.com.ar
SUMMARY:Seminario zonal en Quilmes
DESCRIPTION:El 12 de septiembre\, Ricardo Corbal Sensei brindará un seminario zonal en Tada Ima Dojo\, ubicado en la sede del club social Quilmes (Guido esquina Paz\, Quilmes). Se contará a su vez con la presencia de Jorge Francos 4°Dan\, Facundo Iriart 4°Dan y Humberto May Nuñez 3°Dan de Uruguay.
URL:https://asaikido.com.ar/evento/seminario-zonal-en-quilmes/
LOCATION:Tada Ima Dojo\, Guido 457\, Quilmes \, Buenos Aires\, Argentina
END:VEVENT
BEGIN:VEVENT
DTSTART;VALUE=DATE:20150824
DTEND;VALUE=DATE:20150825
DTSTAMP:20260419T133247
CREATED:20150201T171538Z
LAST-MODIFIED:20150201T171826Z
UID:288-1440374400-1440460799@asaikido.com.ar
SUMMARY:Visita a Castelar
DESCRIPTION:Ricardo Corbal Sensei visitará el lunes 24 de agosto a las 19:30 hs. a Bu No Hikari. \nColegio Sofía Barat de Castelar\nAv. Sarmiento 2991 Castelar
URL:https://asaikido.com.ar/evento/visita-a-castelar/
LOCATION:Bu No Hikari\, Sarmiento 2991\, Castelar Buenos Aires\, Buenos Aires\, Argentina
END:VEVENT
BEGIN:VEVENT
DTSTART;VALUE=DATE:20150814
DTEND;VALUE=DATE:20150817
DTSTAMP:20260419T133247
CREATED:20150122T195257Z
LAST-MODIFIED:20150129T012621Z
UID:263-1439510400-1439769599@asaikido.com.ar
SUMMARY:Santiago del Estero
DESCRIPTION:Agosto 14\, 15 Y 16 Santiago del Estero.\nSantiago Kaizen Aikido Sarmiento 326 1er. Piso (Casa de Italia)
URL:https://asaikido.com.ar/evento/santiago-del-estero/
LOCATION:Santiago Kaizen Aikido\, Sarmiento 326\, Santiago del Estero\, Santiago del Estero\, Argentina
END:VEVENT
BEGIN:VEVENT
DTSTART;VALUE=DATE:20150717
DTEND;VALUE=DATE:20150720
DTSTAMP:20260419T133247
CREATED:20150304T162955Z
LAST-MODIFIED:20150317T185748Z
UID:304-1437091200-1437350399@asaikido.com.ar
SUMMARY:Visita Ricardo Corbal a Córdoba
DESCRIPTION:El próximo 17\, 18 y 19 de Julio\, Ricardo Corbal Sensei visitará Córdoba. La cita será en Misogi Dojo\, Jujuy 71 (Galería Jujuy) 2º piso. Tel: (0351)156-432820 (0351) 152-597708.
URL:https://asaikido.com.ar/evento/visita-ricardo-corbal-a-cordoba/
LOCATION:Dojo Misogi Córdoba\, Jujuy 71\, Córdoba\, Córdoba\, Argentina
END:VEVENT
BEGIN:VEVENT
DTSTART;VALUE=DATE:20150714
DTEND;VALUE=DATE:20150715
DTSTAMP:20260419T133247
CREATED:20150409T171039Z
LAST-MODIFIED:20150409T184338Z
UID:345-1436832000-1436918399@asaikido.com.ar
SUMMARY:Visita a Quilmes
DESCRIPTION:Ricardo Crobal Sensei visitará Tada Ima Dojo\, el 14/7 a las 20:15 Hs.\nInstructor: Horacio Bencharski (4º Dan)\, Guido y Paz (Quilmes Atlético Club).\nTel.: 4253-1014el
URL:https://asaikido.com.ar/evento/visita-a-quilmes/
LOCATION:Tada Ima Dojo\, Guido 457\, Quilmes \, Buenos Aires\, Argentina
END:VEVENT
BEGIN:VEVENT
DTSTART;VALUE=DATE:20150711
DTEND;VALUE=DATE:20150712
DTSTAMP:20260419T133247
CREATED:20150604T032246Z
LAST-MODIFIED:20150604T032246Z
UID:442-1436572800-1436659199@asaikido.com.ar
SUMMARY:Visita a Monte Grande
DESCRIPTION:Ricardo Corbal Sensei brindará un seminario en Kaiki Dojo\, de la localidad de Monte Grande. \nPágina web: http://www.kaikidojo.com.ar/
URL:https://asaikido.com.ar/evento/visita-a-monte-grande/
LOCATION:Kaiki Dojo Mte Grande\, Lavalle 568 \, Monte Grande\, Buenos Aires\, Argentina
END:VEVENT
BEGIN:VEVENT
DTSTART;VALUE=DATE:20150704
DTEND;VALUE=DATE:20150705
DTSTAMP:20260419T133247
CREATED:20150122T194848Z
LAST-MODIFIED:20150317T191829Z
UID:260-1435968000-1436054399@asaikido.com.ar
SUMMARY:Visita a Lanús
DESCRIPTION:4 de Julio\, 17:00 Hs. Club Lanús. Hagakure Aikikai.
URL:https://asaikido.com.ar/evento/lanus/
LOCATION:Hagakure Aikikai\, 9 de Julio 1680\, Lanús\, Lanús Buenos Aires\, Argentina
END:VEVENT
BEGIN:VEVENT
DTSTART;VALUE=DATE:20150626
DTEND;VALUE=DATE:20150629
DTSTAMP:20260419T133247
CREATED:20150317T190420Z
LAST-MODIFIED:20150317T215520Z
UID:319-1435276800-1435535999@asaikido.com.ar
SUMMARY:Visita a Porto Alegre
DESCRIPTION:Los días 26\, 27 y 28 de Junio de 2015\, Sensei Ricardo Corbal dictará un seminario de Aikido en la ciudad de Porto Alegre\, Brasil.
URL:https://asaikido.com.ar/evento/visita-a-porto-alegre/
LOCATION:Porto Alegre\, Brasil\, Porto Alegre\, Porto Alegre\, Brasil
END:VEVENT
BEGIN:VEVENT
DTSTART;VALUE=DATE:20150608
DTEND;VALUE=DATE:20150609
DTSTAMP:20260419T133247
CREATED:20150310T160158Z
LAST-MODIFIED:20150310T161034Z
UID:312-1433721600-1433807999@asaikido.com.ar
SUMMARY:Visita a Ramos Mejía
DESCRIPTION:Sensei Ricardo Corbal visitará el día 8 de junio a las 19:00 hs. Kaizen Dojo II\, en Ramos Mejía.
URL:https://asaikido.com.ar/evento/visita-a-ramos-mejia/
LOCATION:Kaizen Dojo II – Ramos\, Coronel Brandsen 1450\, Ramos Mejía \, Buenos Aires\, Argentina
END:VEVENT
BEGIN:VEVENT
DTSTART;VALUE=DATE:20150601
DTEND;VALUE=DATE:20150602
DTSTAMP:20260419T133247
CREATED:20150427T175434Z
LAST-MODIFIED:20150427T175434Z
UID:381-1433116800-1433203199@asaikido.com.ar
SUMMARY:Visita a Goshin Dojo II - Microcentro
DESCRIPTION:Ricardo Corbal Sensei visitará el 1 de junio a las 19:00Hs. Goshin Dojo II\, ubicado en Zelaya 3167\, Capital Federal. Instructor: Pablo Gomez (2° Dan)\, Tel.: (011) 4862-9045.
URL:https://asaikido.com.ar/evento/visita-a-goshin-dojo-ii-microcentro/
LOCATION:Goshin Dojo II\, Zelaya 3167\, Capital Federal\, Argentina
END:VEVENT
BEGIN:VEVENT
DTSTART;VALUE=DATE:20150529
DTEND;VALUE=DATE:20150601
DTSTAMP:20260419T133247
CREATED:20150130T053303Z
LAST-MODIFIED:20150130T054312Z
UID:283-1432857600-1433116799@asaikido.com.ar
SUMMARY:Visita a Uruguay
DESCRIPTION:Los días 29\, 30 y 31 de Mayo\, Ricardo Corbal Sensei visitará Uruguay. \nMakoto Dojo\nDirección: Padre Juan Bonmesadri 2097\, Colon\, Montevideo
URL:https://asaikido.com.ar/evento/visita-a-uruguay/
LOCATION:Makoto\, Padre Juan Bonmesadri 2097\, Montevideo\, Uruguay
END:VEVENT
BEGIN:VEVENT
DTSTART;VALUE=DATE:20150508
DTEND;VALUE=DATE:20150511
DTSTAMP:20260419T133247
CREATED:20150205T203802Z
LAST-MODIFIED:20150503T180041Z
UID:292-1431043200-1431302399@asaikido.com.ar
SUMMARY:Visita de Donovan Waite Shihan
DESCRIPTION:Sansuikai Internacional y la Asociación Sudamericana de Aikido presentan a Donovan Waite Shihan\, 7°Dan de Aikido. La cita será los días 8\, 9 y 10 de mayo\, en el Club Teléfonos\, Vicente López\, Buenos Aires. \n\nValores del Seminario: \nDesde el 1 de Mayo $ 950 (transf. o dep. bancario) / Pagando con DineroMail $ 1100 \nHasta el 15 de Abril\, $ 700 (transf. o dep. bancario) / Pagando con DineroMail $ 800 \nPROMOCIÓN ESPECIAL – CUPO DE 20 INSCRIPTOS CON DESCUENTO\n A partir del día de hoy y hasta el 30 de Abril\, los primeros 20 practicantes que se inscriban para el Seminario de Sensei Donovan podrán abonar $ 800\, luego del 30 de abril el precio pasará a ser de $ 950. \n  \n\nFormas de pago: \nDepósito o transferencia bancaria\n(debe informar el pago a: ricardocorbal(arroba)gmail.com). \nCaja de ahorros en pesos\n Banco Francés\n Ricardo Corbal\n DNI 4557156\n Sucursal 016\n Cuenta nro.: 40633/9\n CBU 01 70 01 69 40 00 00 04 06 33 99 \nUtilizando DineroMail: \nPulsando el siguiente botón iniciará el pago utilizando la plataforma de DineroMail. Costo $1100.- \n\n\nHorarios: \nVIERNES 8/5/2015 \n19:00 a 20:15Hs. \n20:15 a 21:30Hs. \nSÁBADO 9/5/2015 \n12:00 a 14:30Hs. \n15:00 a 16:30Hs. DANES \nDOMINGO 10/5/2015 \n10:00 a 11:30Hs.
URL:https://asaikido.com.ar/evento/visita-de-donovan-waite-shihan/
LOCATION:Club Teléfonos\, Eduardo Madero 1699\, Vicente López\, Buenos Aires\, B1638AWE\, Argentina
END:VEVENT
BEGIN:VEVENT
DTSTART;VALUE=DATE:20150424
DTEND;VALUE=DATE:20150425
DTSTAMP:20260419T133247
CREATED:20150125T052530Z
LAST-MODIFIED:20150125T052530Z
UID:272-1429833600-1429919999@asaikido.com.ar
SUMMARY:Visita a Villa del Parque\, CABA
DESCRIPTION:El 24 de abril a las 21Hs.\, Sensei Ricardo Corbal visitará Misogi Dojo\, en Villa del Parque\, CABA. \n  \n 
URL:https://asaikido.com.ar/evento/visita-a-villa-del-parque-caba/
LOCATION:Misogi Dojo\, Helguera 2876\, Villa del Parque \, Capital Federal\, Argentina
END:VEVENT
BEGIN:VEVENT
DTSTART;VALUE=DATE:20150413
DTEND;VALUE=DATE:20150414
DTSTAMP:20260419T133247
CREATED:20150330T183316Z
LAST-MODIFIED:20150401T225651Z
UID:333-1428883200-1428969599@asaikido.com.ar
SUMMARY:Visita a Goshin Dojo
DESCRIPTION:El día 6 de abril\, Ricardo Corbal Sensei visitará Goshin Dojo\, en Reconquista 439 2°Piso\, Capital Federal.\nInstructor: Pablo Gomez (2° Dan). Tel.: (011) 4311-4785
URL:https://asaikido.com.ar/evento/visita-a-goshin-dojo/
LOCATION:Goshin Dojo\, Reconquista 439\, Capital Federal\, Argentina
END:VEVENT
BEGIN:VEVENT
DTSTART;VALUE=DATE:20150330
DTEND;VALUE=DATE:20150331
DTSTAMP:20260419T133247
CREATED:20150122T194513Z
LAST-MODIFIED:20150122T200524Z
UID:258-1427673600-1427759999@asaikido.com.ar
SUMMARY:Visita a Ramos Mejía
DESCRIPTION:Marzo 30\, 19:30 Hs. Ramos Mejía
URL:https://asaikido.com.ar/evento/ramos-mejia/
LOCATION:Ramos Mejía\, Ramos Mejía Buenos Aires\, Argentina
END:VEVENT
BEGIN:VEVENT
DTSTART;VALUE=DATE:20150313
DTEND;VALUE=DATE:20150316
DTSTAMP:20260419T133247
CREATED:20150122T194141Z
LAST-MODIFIED:20150122T194255Z
UID:256-1426204800-1426463999@asaikido.com.ar
SUMMARY:Santiago del Estero. Seminario de Bob Zimmermann
DESCRIPTION:Marzo 13\, 14 Y 15 Santiago del Estero\, Seminario de Bob Zimmermann
URL:https://asaikido.com.ar/evento/santiago-del-estero-seminario-de-bob-zimmermann/
LOCATION:Santiago del Estero – Godai No Dojo\, Ejército de los Andes 841\, Santiago del Estero\, Santiago del Estero\, 4200\, Argentina
END:VEVENT
BEGIN:VEVENT
DTSTART;VALUE=DATE:20150220
DTEND;VALUE=DATE:20150223
DTSTAMP:20260419T133247
CREATED:20150122T191053Z
LAST-MODIFIED:20150122T201843Z
UID:253-1424390400-1424649599@asaikido.com.ar
SUMMARY:San Rafael\, Mendoza
DESCRIPTION:20\, 21 y 22 de Febrero\, San Rafael\, Mendoza.
URL:https://asaikido.com.ar/evento/san-rafael-mendoza/
LOCATION:San Rafael\, San Rafael Mendoza\, Argentina
END:VEVENT
END:VCALENDAR